BEGIN:VCALENDAR
VERSION:2.0
PRODID:-//Tampa Bay History Center - ECPv6.15.20//NONSGML v1.0//EN
CALSCALE:GREGORIAN
METHOD:PUBLISH
X-WR-CALNAME:Tampa Bay History Center
X-ORIGINAL-URL:https://tampabayhistorycenter.org
X-WR-CALDESC:Events for Tampa Bay History Center
REFRESH-INTERVAL;VALUE=DURATION:PT1H
X-Robots-Tag:noindex
X-PUBLISHED-TTL:PT1H
BEGIN:VTIMEZONE
TZID:America/New_York
BEGIN:DAYLIGHT
TZOFFSETFROM:-0500
TZOFFSETTO:-0400
TZNAME:EDT
DTSTART:20250309T070000
END:DAYLIGHT
BEGIN:STANDARD
TZOFFSETFROM:-0400
TZOFFSETTO:-0500
TZNAME:EST
DTSTART:20251102T060000
END:STANDARD
BEGIN:DAYLIGHT
TZOFFSETFROM:-0500
TZOFFSETTO:-0400
TZNAME:EDT
DTSTART:20260308T070000
END:DAYLIGHT
BEGIN:STANDARD
TZOFFSETFROM:-0400
TZOFFSETTO:-0500
TZNAME:EST
DTSTART:20261101T060000
END:STANDARD
BEGIN:DAYLIGHT
TZOFFSETFROM:-0500
TZOFFSETTO:-0400
TZNAME:EDT
DTSTART:20270314T070000
END:DAYLIGHT
BEGIN:STANDARD
TZOFFSETFROM:-0400
TZOFFSETTO:-0500
TZNAME:EST
DTSTART:20271107T060000
END:STANDARD
END:VTIMEZONE
BEGIN:VEVENT
DTSTART;TZID=America/New_York:20260423T140000
DTEND;TZID=America/New_York:20260423T142000
DTSTAMP:20260422T053648
CREATED:20260108T190735Z
LAST-MODIFIED:20260108T190736Z
UID:10002854-1776952800-1776954000@tampabayhistorycenter.org
SUMMARY:Cigar City: Bringing Industry to Tampa
DESCRIPTION:Smoke. Style. Stories. Explore Tampa’s historic cigar industry\, where skilled artisans crafted hand-rolled cigars in bustling factories\, shaping the city’s cultural identity and earning it the nickname “Cigar City.” \nEnjoy Cigar City: Bringing Industry to Tampa\, a 20-minute tour\, every Thursday at 2 p.m. \nADMISSION TICKETS
URL:https://tampabayhistorycenter.org/event/cigar-city-bringing-industry-to-tampa-5/
LOCATION:Tampa Bay History Center\, 801 Water Street\, Tampa\, FL\, 33602\, United States
CATEGORIES:Gallery Tours
ATTACH;FMTTYPE=image/webp:https://tampabayhistorycenter.org/wp-content/uploads/2024/11/Cigar-City-at-the-Tampa-Bay-History-Center.webp
ORGANIZER;CN="Tampa Bay History Center":MAILTO:info@tampabayhistorycenter.org
END:VEVENT
BEGIN:VEVENT
DTSTART;TZID=America/New_York:20260424T140000
DTEND;TZID=America/New_York:20260424T142000
DTSTAMP:20260422T053648
CREATED:20250526T134740Z
LAST-MODIFIED:20250901T144558Z
UID:10002706-1777039200-1777040400@tampabayhistorycenter.org
SUMMARY:Every Map Tells a Story
DESCRIPTION:Step back in time with a tour of Tampa’s history through a stunning collection of maps at the Tampa Bay History Center. Each map provides a unique window into the lives of Florida’s early inhabitants\, from indigenous tribes and Spanish explorers to settlers and pioneers who shaped the region. This tour highlights centuries of stories\, showing how geography\, exploration\, and community have influenced Florida’s past and continue to shape its future. Jim Dinsmore leads this gallery tour which is included with admission. \nGET TICKETS
URL:https://tampabayhistorycenter.org/event/every-map-tells-a-story/2026-04-24/
LOCATION:Tampa Bay History Center\, 801 Water Street\, Tampa\, FL\, 33602\, United States
CATEGORIES:Gallery Tours
ATTACH;FMTTYPE=image/jpeg:https://tampabayhistorycenter.org/wp-content/uploads/2025/02/IMG_4686-scaled.jpg
ORGANIZER;CN="Tampa Bay History Center":MAILTO:info@tampabayhistorycenter.org
END:VEVENT
BEGIN:VEVENT
DTSTART;TZID=America/New_York:20260430T140000
DTEND;TZID=America/New_York:20260430T142000
DTSTAMP:20260422T053648
CREATED:20260108T190911Z
LAST-MODIFIED:20260108T190912Z
UID:10002855-1777557600-1777558800@tampabayhistorycenter.org
SUMMARY:Cigar City: Bringing Industry to Tampa
DESCRIPTION:Smoke. Style. Stories. Explore Tampa’s historic cigar industry\, where skilled artisans crafted hand-rolled cigars in bustling factories\, shaping the city’s cultural identity and earning it the nickname “Cigar City.” \nEnjoy Cigar City: Bringing Industry to Tampa\, a 20-minute tour\, every Thursday at 2 p.m. \nADMISSION TICKETS
URL:https://tampabayhistorycenter.org/event/cigar-city-bringing-industry-to-tampa-6/
LOCATION:Tampa Bay History Center\, 801 Water Street\, Tampa\, FL\, 33602\, United States
CATEGORIES:Gallery Tours
ATTACH;FMTTYPE=image/webp:https://tampabayhistorycenter.org/wp-content/uploads/2024/11/Cigar-City-at-the-Tampa-Bay-History-Center.webp
ORGANIZER;CN="Tampa Bay History Center":MAILTO:info@tampabayhistorycenter.org
END:VEVENT
END:VCALENDAR