BEGIN:VCALENDAR
VERSION:2.0
PRODID:-//Tampa Bay History Center - ECPv6.15.20//NONSGML v1.0//EN
CALSCALE:GREGORIAN
METHOD:PUBLISH
X-ORIGINAL-URL:https://tampabayhistorycenter.org
X-WR-CALDESC:Events for Tampa Bay History Center
REFRESH-INTERVAL;VALUE=DURATION:PT1H
X-Robots-Tag:noindex
X-PUBLISHED-TTL:PT1H
BEGIN:VTIMEZONE
TZID:America/New_York
BEGIN:DAYLIGHT
TZOFFSETFROM:-0500
TZOFFSETTO:-0400
TZNAME:EDT
DTSTART:20250309T070000
END:DAYLIGHT
BEGIN:STANDARD
TZOFFSETFROM:-0400
TZOFFSETTO:-0500
TZNAME:EST
DTSTART:20251102T060000
END:STANDARD
BEGIN:DAYLIGHT
TZOFFSETFROM:-0500
TZOFFSETTO:-0400
TZNAME:EDT
DTSTART:20260308T070000
END:DAYLIGHT
BEGIN:STANDARD
TZOFFSETFROM:-0400
TZOFFSETTO:-0500
TZNAME:EST
DTSTART:20261101T060000
END:STANDARD
BEGIN:DAYLIGHT
TZOFFSETFROM:-0500
TZOFFSETTO:-0400
TZNAME:EDT
DTSTART:20270314T070000
END:DAYLIGHT
BEGIN:STANDARD
TZOFFSETFROM:-0400
TZOFFSETTO:-0500
TZNAME:EST
DTSTART:20271107T060000
END:STANDARD
END:VTIMEZONE
BEGIN:VEVENT
DTSTART;TZID=America/New_York:20260427T173000
DTEND;TZID=America/New_York:20260427T184500
DTSTAMP:20260421T171107
CREATED:20260202T191919Z
LAST-MODIFIED:20260203T164217Z
UID:10004057-1777311000-1777315500@tampabayhistorycenter.org
SUMMARY:Black History Book Club: "Race Matters" by Cornel West
DESCRIPTION:The Black History Book Club continues its spring season with a discussion of Race Matters by Cornel West on April 27. \nThis free event begins at 5:30 p.m. at 1213 N. Central Ave.\, at Tampa’s Black History Museum. First published in 1993\, Race Matters examines race\, democracy and moral responsibility in American public life. Copies of the book are available for purchase at the Tampa Bay History Center Museum Store or through online retailers. \nGuests are invited to take part in a guided community conversation exploring West’s analysis of justice\, culture and the enduring structures that shape social inequality. \n\n\n\n\nRSVP
URL:https://tampabayhistorycenter.org/event/black-history-book-club-race-matters-by-cornel-west/
LOCATION:Tampa’s Black History Museum\, 1213 N Central Ave\, Tampa\, FL\, 33602\, United States
CATEGORIES:Talks
ATTACH;FMTTYPE=image/jpeg:https://tampabayhistorycenter.org/wp-content/uploads/2026/02/Race-Matters-Cornel-West.jpg
ORGANIZER;CN="Tampa's Black History Museum":MAILTO:info@tampabayhistorycenter.org
END:VEVENT
END:VCALENDAR